BEGIN:VCALENDAR
VERSION:2.0
PRODID:-//Tukios.com/
BEGIN:VEVENT
UID:4cb7a616-21bc-448b-9288-d7129683d1cf@www.obriensullivanfuneralhome.com
DTSTAMP:20260424T182908Z
DTSTART:20260428T143000Z
DTEND:20260428T153000Z
SUMMARY:Mass
DESCRIPTION:
URL:https://www.obriensullivanfuneralhome.com/obituaries/ruth-laura-hayes
LOCATION: 24505 Meadowbrook Road  Novi MI 48375
GEO:42.4704261;-83.4566542
END:VEVENT
END:VCALENDAR