BEGIN:VCALENDAR
VERSION:2.0
PRODID:-//Tukios.com/
BEGIN:VEVENT
UID:49fd5f63-be8f-4d6d-a097-eacb676de32f@www.obriensullivanfuneralhome.com
DTSTAMP:20260424T183004Z
DTSTART:20260427T230000Z
DTEND:20260428T000000Z
SUMMARY:Prayer Service
DESCRIPTION:
URL:https://www.obriensullivanfuneralhome.com/obituaries/ruth-laura-hayes
LOCATION: 41555 Grand River Ave  Novi MI 48375
GEO:42.4763335;-83.45759
END:VEVENT
END:VCALENDAR