BEGIN:VCALENDAR
VERSION:2.0
PRODID:-//Tukios.com/
BEGIN:VEVENT
UID:06ace10b-e704-4a37-9430-f704ccda54c8@www.obriensullivanfuneralhome.com
DTSTAMP:20260424T182745Z
DTSTART:20260427T200000Z
DTEND:20260428T000000Z
SUMMARY:Visitation
DESCRIPTION:
URL:https://www.obriensullivanfuneralhome.com/obituaries/ruth-laura-hayes
LOCATION: 41555 Grand River Ave  Novi MI 48375
GEO:42.4763335;-83.45759
END:VEVENT
END:VCALENDAR