BEGIN:VCALENDAR
VERSION:2.0
PRODID:-//Tukios.com/
BEGIN:VEVENT
UID:2c46df95-1dec-4622-9643-19e55e5ea68d@www.obriensullivanfuneralhome.com
DTSTAMP:20260423T230551Z
DTSTART:20260428T143000Z
DTEND:20260428T153000Z
SUMMARY:Funeral Mass
DESCRIPTION:Visitation begins at 10am
URL:https://www.obriensullivanfuneralhome.com/obituaries/ruth-hayes
LOCATION: 24505 Meadowbrook Road  Novi MI 48375
GEO:42.4704261;-83.4566542
END:VEVENT
END:VCALENDAR